BEGIN:VCALENDAR
VERSION:2.0
PRODID:-//eventon.com NONSGML v1.0//EN
CALSCALE:GREGORIAN
METHOD:PUBLISH
BEGIN:VEVENT
UID:69e8999335204
DTSTAMP:20260422T094907Z
DTSTART:20260921
DTEND:20260922
LOCATION:Ontmoetingscentra van Lambertijnenhof en Sterrebos
SUMMARY:Feestweek
DESCRIPTION:Na het succes van eerdere jaren wordt er ook dit jaar een feest
 week georganiseerd in beide zorgwijken. De feestweek zal plaatsvinden in de
  week van 21 t/m 25 september 2026. De exacte activiteiten\,  tijden en mee
 r details volgen later via een flyer en per mail. Alleen voor bewoners\,  d
 eelnemers\,  medewerkers[..]\nhttps://slzorg.nl/events/feestweek-2/
URL:https://slzorg.nl/events/feestweek-2/
END:VEVENT
END:VCALENDAR