BEGIN:VCALENDAR
VERSION:2.0
PRODID:-//eventon.com NONSGML v1.0//EN
CALSCALE:GREGORIAN
METHOD:PUBLISH
BEGIN:VEVENT
UID:69e76f57033a1
DTSTAMP:20260421T123639Z
DTSTART:20260131T180000Z
DTEND:20260131T200000Z
LOCATION:Ontmoetingscentrum Sterrebos Onyxdijk 183 c\,  4706 LL Roosendaal
SUMMARY:Disco - Sterrebos
DESCRIPTION:Kom gezellig naar het Ontmoetingscentrum van Sterrebos voor een
  disco; met een echte DJ! Deelnemers buiten S&amp;L Zorg zijn van harte wel
 kom!\nhttps://slzorg.nl/events/disco-sterrebos-26/
URL:https://slzorg.nl/events/disco-sterrebos-26/
END:VEVENT
END:VCALENDAR