BEGIN:VCALENDAR
VERSION:2.0
PRODID:-//eventon.com NONSGML v1.0//EN
CALSCALE:GREGORIAN
METHOD:PUBLISH
BEGIN:VEVENT
UID:69e8b26a40072
DTSTAMP:20260422T113506Z
DTSTART:20260421T080000Z
DTEND:20260421T140000Z
LOCATION:T.V. Steenbergen Wipstraat 2a
SUMMARY:Padeltoernooi: S&L Padel
DESCRIPTION:Op dinsdag 21 april organiseert Naomi Pesman\,  vanuit De leuk
 ste …plek\,  een gezellig padeltoernooi voor medewerkers en vrijwilligers
  bij T.V. Steenbergen. Of je nu al vaker gespeeld hebt of nog maar net ken
 nismaakt met padel: iedereen kan meedoen! Je kunt je samen als duo (zowel m
 ix als dubbel) aanmelden\,  maar ook alleen[..]\nhttps://slzorg.nl/events/p
 adeltoernooi-sl-padel/
URL:https://slzorg.nl/events/padeltoernooi-sl-padel/
END:VEVENT
END:VCALENDAR