BEGIN:VCALENDAR
VERSION:2.0
PRODID:-//eventon.com NONSGML v1.0//EN
CALSCALE:GREGORIAN
METHOD:PUBLISH
BEGIN:VEVENT
UID:69e8997be3cbf
DTSTAMP:20260422T094843Z
DTSTART:20250302T123000Z
DTEND:20250302T140000Z
LOCATION:Ontmoetingscentrum Lambertijnenhof Lambertijnenhof 209\,  4614 CH\,  Bergen op Zoom
SUMMARY:Vastenavend spellekusmiddag
DESCRIPTION:Kom in oe schwonste kleedje leutige spellekus spele met vrijwil
 ligster Conny in het OC! Voor deelnemers van S&amp;L Zorg.\nhttps://slzorg.
 nl/events/vastenavend-spellekusmiddag/
URL:https://slzorg.nl/events/vastenavend-spellekusmiddag/
END:VEVENT
END:VCALENDAR