BEGIN:VCALENDAR
VERSION:2.0
PRODID:-//eventon.com NONSGML v1.0//EN
CALSCALE:GREGORIAN
METHOD:PUBLISH
BEGIN:VEVENT
UID:69e640355b01c
DTSTAMP:20260420T150317Z
DTSTART:20230510T073000Z
DTEND:20230510T130000Z
LOCATION:Ontmoetingscentrum Lambertijnenhof Lambertijnenhof 209\,  4614 CH\,  Bergen op Zoom
SUMMARY:De Leukste Pyjamaparty
DESCRIPTION:Alle bewoners\,  deelnemers\,  medewerkers en vrijwilligers tre
 kken lekker hun pyjama aan vandaag! &#8217;s Middags wordt er lekker gelunc
 ht bij de dagbesteding. Om 13.00 uur is iedereen welkom in het OC van Lambe
 rtijnenhof voor de disco. Dat wordt genieten! Kijk voor meer informatie op 
 de flyer. Alleen voor bewoners en deelnemers[..]\nhttps://slzorg.nl/events/
 de-leukste-pyjamaparty/
URL:https://slzorg.nl/events/de-leukste-pyjamaparty/
END:VEVENT
END:VCALENDAR